Workbook
Name onev: [1]kod!$BT$34:$BT$3186

Sheet 1. melléklet
A1: Az önkormányzat mérlege 2022. év
A2: # | B2: Megnevezés | C2: Előző időszak (Ft) | D2: Módosítások (+/-) | E2: Tárgyi időszak (Ft) | F2: %
A3: 1 | B3: 2 | C3: 3 | D3: 4 | E3: 5 | F3: 6
A4: 01 | B4: A/I/1 Vagyoni értékű jogok | C4: 5540000 | D4: 0 | E4: 6700000 | F4: =E4/C4*100 -> 120.93863
A5: 04 | B5: A/I Immateriális javak (=A/I/1+A/I/2+A/I/3) | C5: =SUM(C4:C4) -> 5540000 | D5: 0 | E5: =SUM(E4:E4) -> 6700000 | F5: =E5/C5*100 -> 120.93863
A6: 05 | B6: A/II/1 Ingatlanok és a kapcsolódó vagyoni értékű jogok | C6: 362802830 | D6: 0 | E6: 351339769 | F6: =E6/C6*100 -> 96.840416
A7: 06 | B7: A/II/2 Gépek, berendezések, felszerelések, járművek | C7: 4290426 | D7: 0 | E7: 16820977 | F7: =E7/C7*100 -> 392.05843
A8: 08 | B8: A/II/4 Beruházások, felújítások | C8: 4837400 | D8: 0 | E8: 7397400 | F8: =E8/C8*100 -> 152.92099
A9: 10 | B9: A/II Tárgyi eszközök (=A/II/1+...+A/II/5) | C9: =SUM(C6:C8) -> 371930656 | D9: =SUM(D6:D8) -> 0 | E9: =SUM(E6:E8) -> 375558146 | F9: =E9/C9*100 -> 100.97531
A10: 11 | B10: A/III/1 Tartós részesedések (=A/III/1a+…+A/III/1e) | C10: 2749989 | D10: 0 | E10: 2571856 | F10: =E10/C10*100 -> 93.52241
A11: 13 | B11: A/III/1e - ebből: egyéb tartós részesedések nem pénzügyi vállalkozásban | C11: 2749989 | D11: 0 | E11: 2571856 | F11: =E11/C11*100 -> 93.52241
A12: 22 | B12: A/III Befektetett pénzügyi eszközök (=A/III/1+A/III/2+A/III/3) | C12: =SUM(C10) -> 2749989 | D12: =SUM(D10) -> 0 | E12: =SUM(E10) -> 2571856 | F12: =E12/C12*100 -> 93.52241
A13: 29 | B13: A) NEMZETI VAGYONBA TARTOZÓ BEFEKTETETT ESZKÖZÖK (=A/I+A/II+A/III+A/IV) | C13: =C5+C9+C12 -> 380220645 | D13: =D5+D9+D12 -> 0 | E13: =E5+E9+E12 -> 384830002 | F13: =E13/C13*100 -> 101.21228
A14: 30 | B14: B/I/1 Vásárolt készletek | C14: 59034 | D14: 0 | E14: 93763 | F14: =E14/C14*100 -> 158.82881
A15: 35 | B15: B/I Készletek (=B/I/1+…+B/I/5) | C15: =SUM(C14) -> 59034 | D15: =SUM(D14) -> 0 | E15: =SUM(E14) -> 93763 | F15: =E15/C15*100 -> 158.82881
A16: 45 | B16: B) NEMZETI VAGYONBA TARTOZÓ FORGÓESZKÖZÖK (= B/I+B/II) | C16: =SUM(C15) -> 59034 | D16: =SUM(D15) -> 0 | E16: =SUM(E15) -> 93763 | F16: =E16/C16*100 -> 158.82881
A17: 49 | B17: C/II/1 Forintpénztár | C17: 90455 | D17: 0 | E17: 97360 | F17: =E17/C17*100 -> 107.63363
A18: 52 | B18: C/II Pénztárak, csekkek, betétkönyvek (=C/II/1+C/II/2+C/II/3) | C18: =SUM(C17) -> 90455 | D18: =SUM(D17) -> 0 | E18: =SUM(E17) -> 97360 | F18: =E18/C18*100 -> 107.63363
A19: 53 | B19: C/III/1 Kincstáron kívüli forintszámlák | C19: 55823454 | D19: 0 | E19: 25230144 | F19: =E19/C19*100 -> 45.196315
A20: 54 | B20: C/III/2 Kincstárban vezetett forintszámlák | C20: 0 | D20: 0 | E20: 81957414 | F20: 0
A21: 55 | B21: C/III Forintszámlák (=C/III/1+C/III/2) | C21: =SUM(C19) -> 55823454 | D21: =SUM(D20) -> 0 | E21: =SUM(E19:E20) -> 107187558 | F21: =E21/C21*100 -> 192.01169
A22: 59 | B22: C) PÉNZESZKÖZÖK (=C/I+…+C/IV) | C22: =C18+C21 -> 55913909 | D22: =D18+D21 -> 0 | E22: =E18+E21 -> 107284918 | F22: =E22/C22*100 -> 191.87519
A23: 64 | B23: D/I/3 Költségvetési évben esedékes követelések közhatalmi bevételre (=D/I/3a+…+D/I/3f) | C23: 2983956 | D23: =SUM(D24:D30) -> 0 | E23: 2623979 | F23: =E23/C23*100 -> 87.93625
A24: 68 | B24: D/I/3d - ebből: költségvetési évben esedékes követelések vagyoni típusú adókra | C24: 1178298 | D24: 0 | E24: 1314642 | F24: =E24/C24*100 -> 111.57127
A25: 69 | B25: D/I/3e - ebből: költségvetési évben esedékes követelések termékek és szolgáltatások adóira | C25: 1693909 | D25: 0 | E25: 865491 | F25: =E25/C25*100 -> 51.094303
A26: 70 | B26: D/I/3f - ebből: költségvetési évben esedékes követelések egyéb közhatalmi bevételekre | C26: 111749 | D26: 0 | E26: 443846 | F26: =E26/C26*100 -> 397.18118
A27: 71 | B27: D/I/4 Költségvetési évben esedékes követelések működési bevételre (=D/I/4a+…+D/I/4i) | C27: 1751341 | D27: 0 | E27: 410549 | F27: =E27/C27*100 -> 23.44198
A28: 72 | B28: D/I/4a - ebből: költségvetési évben esedékes követelések készletértékesítés ellenértékére, szolgáltatások ellenértékére, közvetített szolgáltatások ellenértékére | C28: 1353019 | D28: 0 | E28: 251441 | F28: =E28/C28*100 -> 18.583701
A29: 73 | B29: D/I/4b - ebből: költségvetési évben esedékes követelések tulajdonosi bevételekre | C29: 73100 | D29: 0 | E29: 146200 | F29: 0
A30: 75 | B30: D/I/4d - ebből: költségvetési évben esedékes követelések kiszámlázott általános forgalmi adóra | C30: 325222 | D30: 0 | E30: 12908 | F30: =E30/C30*100 -> 3.9689812
A31: 87 | B31: D/I/6 Költségvetési évben esedékes követelések működési célú átvett pénzeszközre (>=D/I/6a+D/I/6b+D/I/6c | C31: 5000 | D31: 0 | E31: 5000 | F31: =E31/C31*100 -> 100
A32: 90 | B32: D/I/6c - ebből: költségvetési évben esedékes követelések működési célú visszatérítendő támogatások, kölcsönök visszatérülésére államháztartáson kívülről | C32: 5000 | D32: 0 | E32: 5000 | F32: =E32/C32*100 -> 100
A33: 91 | B33: D/I/7 Költségvetési évben esedékes követelések felhalmozási célú átvett pénzeszközre(>=D/I/7a+D/I/7b+D/I/7c) | C33: 1440234 | D33: 0 | E33: 1440234 | F33: =E33/C33*100 -> 100
A34: 103 | B34: D/I Költségvetési évben esedékes követelések (=D/I/1+…+D/I/8) | C34: =SUM(C23,C27,C31,C33) -> 6180531 | D34: =SUM(D23,D27,D31,D33) -> 0 | E34: =SUM(E23,E27,E31,E33) -> 4479762 | F34: =E34/C34*100 -> 72.48183
A35: 108 | B35: D/II/3 Költségvetési évet követően esedékes követelések közhatalmi bevételre (=D/II/3a+…+D/II/3f) | C35: 6194172 | D35: 0 | E35: 9623109 | F35: =E35/C35*100 -> 155.35747
A36: 112 | B36: D/II/3d - ebből: költségvetési évet követően esedékes követelések vagyoni típusú adóira | C36: 0 | E36: 15000 | F36: 0
A37: 113 | B37: D/II/3e - ebből: költségvetési évet követően esedékes követelések termékek és szolgáltatások adóra | C37: 6194172 | E37: 9559818 | F37: =E37/C37*100 -> 154.33569
A38: 114 | B38: D/II/3f - ebből: költségvetési évet követően esedékes követelések egyéb közhatalmi bevételekre | C38: 0 | D38: 0 | E38: 48291 | F38: 0
A39: 144 | B39: D/II Költségvetési évet követően esedékes követelések (=D/II/1+…+D/II/8) | C39: =SUM(C35) -> 6194172 | D39: 0 | E39: =SUM(E35) -> 9623109 | F39: =SUM(F35) -> 155.35747
A40: 145 | B40: D/III/1 Adott előlegek (=D/III/1a+…+D/III/1f) | C40: 20073 | D40: 0 | E40: 24203 | F40: 0
...

Sheet 2. melléklet
A1: Az önkormányzat eredménykimutatása 2022. év
B2: Megnevezés | C2: Előző időszak (Ft) | D2: Módosítások (+/-) | E2: Tárgyi időszak (Ft) | F2: %
A3: 1 | B3: 2 | C3: 3 | D3: 4 | E3: 5 | F3: 6
A4: 01 | B4: 01 Közhatalmi eredményszemléletű bevételek | C4: 17558222 | D4: 0 | E4: 32205550 | F4: =E4/C4*100 -> 183.42148
A5: 02 | B5: 02 Eszközök és szolgáltatások értékesítése nettó eredményszemléletű bevételei | C5: 4558053 | D5: 0 | E5: 2378638 | F5: =E5/C5*100 -> 52.185396
A6: 03 | B6: 03 Tevékenység egyéb nettó eredményszemléletű bevételei | C6: 2841635 | D6: 0 | E6: 3063896 | F6: =E6/C6*100 -> 107.82159
A7: 04 | B7: I Tevékenység nettó eredményszemléletű bevétele (=01+02+03) | C7: =SUM(C4:C6) -> 24957910 | D7: =SUM(D4:D6) -> 0 | E7: =SUM(E4:E6) -> 37648084 | F7: =E7/C7*100 -> 150.8463
A8: 08 | B8: 06 Központi működési célú támogatások eredményszemléletű bevételei | C8: 35873712 | D8: 0 | E8: 40895258 | F8: =E8/C8*100 -> 113.99784
A9: 09 | B9: 07 Egyéb működési célú támogatások eredményszemléletű bevételei | C9: 15267195 | D9: 0 | E9: 15829451 | F9: =E9/C9*100 -> 103.68277
A10: 10 | B10: 08 Felhalmozási célú támogatások eredményszemléletű bevételei | C10: 35519843 | D10: 0 | E10: 6205481 | F10: =E10/C10*100 -> 17.470463
A11: 11 | B11: 09 Különféle egyéb eredményszemléletű bevételek | C11: 5899841 | D11: 0 | E11: 2783441 | F11: =E11/C11*100 -> 47.178238
A12: 12 | B12: III Egyéb eredményszemléletű bevételek (=06+07+08+09) | C12: =SUM(C8:C11) -> 92560591 | D12: =SUM(D8:D11) -> 0 | E12: =SUM(E8:E11) -> 65713631 | F12: =E12/C12*100 -> 70.995259
A13: 13 | B13: 10 Anyagköltség | C13: 4055310 | D13: 0 | E13: 2641104 | F13: =E13/C13*100 -> 65.127056
A14: 14 | B14: 11 Igénybe vett szolgáltatások értéke | C14: 19696775 | D14: 0 | E14: 27211569 | F14: =E14/C14*100 -> 138.15241
A15: 16 | B15: 13 Eladott (közvetített) szolgáltatások értéke | C15: 2491610 | D15: 0 | E15: 424713 | F15: =E15/C15*100 -> 17.045725
A16: 17 | B16: IV Anyagjellegű ráfordítások (=10+11+12+13) | C16: =SUM(C13:C15) -> 26243695 | D16: =SUM(D13:D15) -> 0 | E16: =SUM(E13:E15) -> 30277386 | F16: =E16/C16*100 -> 115.37013
A17: 18 | B17: 14 Bérköltség | C17: 17281203 | D17: 0 | E17: 24790338 | F17: =E17/C17*100 -> 143.45262
A18: 19 | B18: 15 Személyi jellegű egyéb kifizetések | C18: 9532989 | D18: 0 | E18: 12480231 | F18: =E18/C18*100 -> 130.91624
A19: 20 | B19: 16 Bérjárulékok | C19: 3659747 | D19: 0 | E19: 4457941 | F19: =E19/C19*100 -> 121.81009
A20: 21 | B20: V Személyi jellegű ráfordítások (=14+15+16) | C20: =SUM(C17:C19) -> 30473939 | D20: =SUM(D17:D19) -> 0 | E20: =SUM(E17:E19) -> 41728510 | F20: =E20/C20*100 -> 136.93179
A21: 22 | B21: VI Értékcsökkenési leírás | C21: 16037341 | D21: 0 | E21: 17158538 | F21: =E21/C21*100 -> 106.99117
A22: 23 | B22: VII Egyéb ráfordítások | C22: 61408973 | D22: 0 | E22: 41319788 | F22: =E22/C22*100 -> 67.286238
A23: 24 | B23: A) TEVÉKENYSÉGEK EREDMÉNYE (=I±II+III-IV-V-VI-VII) | C23: =C7+C12-C16-C20-C21-C22 -> -16645447 | D23: =D7+D12-D16-D20-D21-D22 -> 0 | E23: =E7+E12-E16-E20-E21-E22 -> -27122507 | F23: =E23/C23*100 -> 162.9425
A24: 28 | B24: 20 Egyéb kapott (járó) kamatok és kamatjellegű eredményszemléletű bevételek | C24: 12923 | D24: 0 | E24: 4752 | F24: =E24/C24*100 -> 36.771647
A25: 32 | B25: VIII Pénzügyi műveletek eredményszemléletű bevételei (=17+18+19+20+21) | C25: =SUM(C24:C24) -> 12923 | D25: =SUM(D24:D24) -> 0 | E25: =SUM(E24:E24) -> 4752 | F25: =E25/C25*100 -> 36.771647
A26: 36 | B26: 25 Részesedések, értékpapírok, pénzeszközök értékvesztése | C26: 163699 | D26: 0 | E26: 178133 | F26: =E26/C26*100 -> 108.8174
A27: 42 | B27: IX Pénzügyi műveletek ráfordításai (=22+23+24+25+26) | C27: =C26 -> 163699 | D27: =D26 -> 0 | E27: =E26 -> 178133 | F27: =E27/C27*100 -> 108.8174
A28: 43 | B28: B) PÉNZÜGYI MŰVELETEK EREDMÉNYE (=VIII-IX) | C28: =C25-C27 -> -150776 | D28: =D25 -> 0 | E28: =E25-E27 -> -173381 | F28: =E28/C28*100 -> 114.99244
A29: 44 | B29: C) MÉRLEG SZERINTI EREDMÉNY (=±A±B) | C29: =C23+C28 -> -16796223 | D29: =D23+D28 -> 0 | E29: =E23+E28 -> -27295888 | F29: =E29/C29*100 -> 162.51206

Sheet 3. melléklet
A1: Az önkormányzat maradványkimutatása 2022. év
A3: # | B3: Megnevezés | C3: Előző időszak (Ft) | D3: Tárgyi időszak (Ft) | E3: %
A4: 1 | B4: 2 | D4: 3
A5: 01 | B5: 01 Alaptevékenység költségvetési bevételei | C5: 93796127 | D5: 175704530 | E5: =D5/C5*100 -> 187.326
A6: 02 | B6: 02 Alaptevékenység költségvetési kiadásai | C6: 246821884 | D6: 125139408 | E6: =D6/C6*100 -> 50.700289
A7: 03 | B7: I Alaptevékenység költségvetési egyenlege (=01-02) | C7: =C5-C6 -> -153025757 | D7: =D5-D6 -> 50565122 | E7: =D7/C7*100 -> -33.043537
A8: 04 | B8: 03 Alaptevékenység finanszírozási bevételei | C8: 206108021 | D8: 52602480 | E8: =D8/C8*100 -> 25.521802
A9: 05 | B9: 04 Alaptevékenység finanszírozási kiadásai | C9: 1864749 | D9: 1250688 | E9: =D9/C9*100 -> 67.070045
A10: 06 | B10: II Alaptevékenység finanszírozási egyenlege (=03-04) | C10: =C8-C9 -> 204243272 | D10: =D8-D9 -> 51351792 | E10: =D10/C10*100 -> 25.142464
A11: 07 | B11: A) Alaptevékenység maradványa (=±I±II) | C11: =C7+C10 -> 51217515 | D11: =D7+D10 -> 101916914 | E11: =D11/C11*100 -> 198.9884
A12: 15 | B12: C) Összes maradvány (=A+B) | C12: =C11 -> 51217515 | D12: =D11 -> 101916914 | E12: =D12/C12*100 -> 198.9884
A13: 16 | B13: D) Alaptevékenység kötelezettségvállalással terhelt maradványa | C13: 47000000 | D13: 100291927 | E13: =D13/C13*100 -> 213.38708
A14: 17 | B14: E) Alaptevékenység szabad maradványa (=A-D) | C14: =C12-C13 -> 4217515 | D14: =D12-D13 -> 1624987 | E14: =D14/C14*100 -> 38.52949

Sheet 4. melléklet
A4: Az önkormányzat főösszesítője
A6: Megnevezés | B6: 2022. évi eredeti előirányzat | C6: 2022. évi módosított előirányzat IV. | D6: 2022. évi teljesítés | E6: %
A7: I. Működési célú támogatások államháztartáson belülről | B7: ='5. melléklet'!B5 -> 44553517 | C7: ='5. melléklet'!C5 -> 55074022 | D7: ='5. melléklet'!D5 -> 56705886 | E7: =D7/C7*100 -> 102.96304
A8: II. Felhalmozási célú támogatások államháztartáson belülről | B8: ='5. melléklet'!B28 -> 89845925 | C8: ='5. melléklet'!C28 -> 89845925 | D8: ='5. melléklet'!D28 -> 85402414 | E8: =D8/C8*100 -> 95.054299
A9: III. Közhatalmi bevételek | B9: ='5. melléklet'!B38 -> 18400000 | C9: ='5. melléklet'!C38 -> 18400000 | D9: ='5. melléklet'!D38 -> 23925630 | E9: =D9/C9*100 -> 130.0306
A10: IV. Működési bevételek | B10: ='5. melléklet'!B52 -> 8646259 | C10: ='5. melléklet'!C52 -> 8646259 | D10: ='5. melléklet'!D52 -> 9470600 | E10: =D10/C10*100 -> 109.53408
A11: V. Felhalmozási bevételek | B11: ='5. melléklet'!B64 -> 0 | C11: ='5. melléklet'!C64 -> 0 | D11: ='5. melléklet'!D64 -> 0
A12: VI. Működési célú átvett pénzeszközök | B12: ='5. melléklet'!B70 -> 0 | C12: ='5. melléklet'!C70 -> 0 | D12: ='5. melléklet'!D70 -> 200000
A13: VII. Felhalmozási célú átvett pénzeszközök | B13: ='5. melléklet'!B75 -> 0 | C13: 0 | D13: 0
A14: Költségvetési bevételek összesen: | B14: =SUM(B7:B13) -> 161445701 | C14: =SUM(C7:C13) -> 171966206 | D14: =SUM(D7:D13) -> 175704530 | E14: =D14/C14*100 -> 102.17387
A15: VIII. Finanszírozási bevételek
A16: 1. Költségvetési hiány belső finanszírozására szolgáló finanszírozási bevételek | B16: ='5. melléklet'!B81 -> 47000000 | C16: ='5. melléklet'!C81 -> 51217515 | D16: ='5. melléklet'!D81 -> 51217515 | E16: =D16/C16*100 -> 100
A17: 2. Költségvetési hiány külső finanszírozására szolgáló finanszírozási célú pénzügyi műveletek bevételei | B17: ='5. melléklet'!B84 -> 950124 | C17: ='5. melléklet'!C84 -> 2280013 | D17: ='5. melléklet'!D84 -> 1384965 | E17: =D17/C17*100 -> 60.743733
A18: Finanszírozási bevételek összesen: | B18: =B16+B17 -> 47950124 | C18: =C16+C17 -> 53497528 | D18: =D16+D17 -> 52602480 | E18: =D18/C18*100 -> 98.326936
A19: Bevételek összesen: | B19: =B14+B18 -> 209395825 | C19: =C14+C18 -> 225463734 | D19: =D14+D18 -> 228307010 | E19: =D19/C19*100 -> 101.26108
A22: Működési kiadások | B22: =SUM(B23:B24) -> 99010603 | C22: =SUM(C23:C24) -> 112416986 | D22: =SUM(D23:D24) -> 102696995 | E22: =D22/C22*100 -> 91.353628
A23: Önkormányzat | B23: ='6. melléklet'!B42 -> 99010603 | C23: ='6. melléklet'!C42 -> 112416986 | D23: ='6. melléklet'!D42 -> 102696995 | E23: =D23/C23*100 -> 91.353628
A25: Felhalmozási kiadások | B25: =SUM(B26:B29) -> 105321897 | C25: =SUM(C26:C29) -> 106632195 | D25: =SUM(D26:D29) -> 22442413 | E25: =D25/C25*100 -> 21.046564
A26: Fejlesztési kiadások | B26: 0 | C26: ='5. melléklet'!C87 -> 0 | D26: 0
A27: Beruházás | B27: ='8. melléklet'!B21 -> 103562968 | C27: ='8. melléklet'!C21 -> 104645911 | D27: ='8. melléklet'!D21 -> 22106130 | E27: =D27/C27*100 -> 21.124695
A28: Felújítás | B28: ='8. melléklet'!B29 -> 1700000 | C28: ='8. melléklet'!C29 -> 1700000 | D28: ='8. melléklet'!D29 -> 50000 | E28: =D28/C28*100 -> 2.9411765
A29: Egyéb felhalmozási kiadások | B29: ='8. melléklet'!B32 -> 58929 | C29: ='8. melléklet'!C31 -> 286284 | D29: ='8. melléklet'!D31 -> 286283 | E29: =D29/C29*100 -> 99.999651
A31: Tartalékok | B31: =SUM(B32:B32) -> 2917589 | C31: 4268817 | D31: =SUM(D32:D34) -> 0 | E31: =D31/C31*100 -> 0
A32: Általános | B32: 2917589 | C32: 2725928 | D32: 0 | E32: =D32/C32*100 -> 0
A33: Céltartalék - közfoglalkoztatási előleg | B33: 0 | C33: 213000 | D33: 0 | E33: 0
A34: Céltartalék - 2022. évi megelőlegezés | B34: 0 | C34: 1329889 | D34: 0 | E34: 0
A35: Költségvetési kiadások összesen: | B35: =SUM(B31,B25,B22) -> 207250089 | C35: =SUM(C31,C25,C22) -> 223317998 | D35: =SUM(D31,D25,D22) -> 125139408 | E35: =D35/C35*100 -> 56.036419
A36: Hiteltörlesztés
A37: Állami támogatás megelőlegezés visszafizetés | B37: ='8. melléklet'!B39 -> 2145736 | C37: ='8. melléklet'!C39 -> 2145736 | D37: ='8. melléklet'!D39 -> 1250688 | E37: =D37/C37*100 -> 58.287133
A38: Finanszírozási kiadások összesen: | B38: =SUM(B36:B37) -> 2145736 | C38: =SUM(C36:C37) -> 2145736 | D38: =SUM(D36:D37) -> 1250688 | E38: =D38/C38*100 -> 58.287133
A39: Kiadások összesen: | B39: =SUM(B35,B38) -> 209395825 | C39: =SUM(C35,C38) -> 225463734 | D39: =SUM(D35,D38) -> 126390096 | E39: =D39/C39*100 -> 56.057839
B41: =B19-B39 -> 0 | C41: =C19-C39 -> 0 | D41: =D19-D39 -> 101916914

Sheet 5. melléklet
A3: Bevételek előirányzata
A4: Megnevezés | B4: 2022. évi eredeti előirányzat | C4: 2022. évi módosított előirányzat IV. | D4: 2022. évi teljesítés | E4: %
A5: I. Működési célú támogatások államháztartáson belülről | B5: =B6+B14+B15+B16+B17+B18 -> 44553517 | C5: =C6+C14+C15+C16+C17+C18 -> 55074022 | D5: =D6+D14+D15+D16+D17+D18 -> 56705886 | E5: =D5/C5*100 -> 102.96304
A6: 1. Önkormányzat működési támogatásai | B6: =SUM(B7:B12) -> 35572423 | C6: =SUM(C7:C12) -> 41461043 | D6: =SUM(D7:D12) -> 41461043 | E6: =D6/C6*100 -> 100
A7: 1.1. Helyi önk. működésének ált. támogatása | B7: 20226470 | C7: 20226470 | D7: =B7 -> 20226470 | E7: =D7/C7*100 -> 100
A8: 1.2. Települési önk. egyes köznev. feladatainak támogatása | B8: 0 | C8: 0 | D8: =B8 -> 0 | E8: 0
A9: 1.3. Települési önk. szoc. és gyermekjóléti feladatainak tám. | B9: 9160300 | C9: 9505025 | D9: =C9 -> 9505025 | E9: =D9/C9*100 -> 100
A10: 1.4. Települési önk. kult. feladatainak támogatása | B10: 2270000 | C10: =B10 -> 2270000 | D10: =B10 -> 2270000 | E10: =D10/C10*100 -> 100
A11: 1.5. Helyi önk. Működési célú költségvetési támogatásai és kiegészítő támogatásai | B11: 3915653 | C11: 9459548 | D11: =C11 -> 9459548 | E11: =D11/C11*100 -> 100
A12: 1.6. Elszámolásból származó bevételek | B12: 0 | C12: 0 | D12: 0 | E12: 0
A13: 1.7. Gyermekétkeztetés
A14: 2. Elvonások, befizetések
A15: 3. Működési célú garancia- és kezességvállalásból származó megtérülések áh-n belülről
A16: 4. Működési célú visszatérítendő támogatások, kölcsönök visszatérülése áh-n belülről
A17: 5. Működési célú visszatérítendő támogatások, kölcsönök igénybevétele áh-n belülről
A18: 6. Egyéb működési célú támogatások bevételei államháztartáson belülről | B18: =SUM(B19:B27) -> 8981094 | C18: =SUM(C19:C27) -> 13612979 | D18: =SUM(D19:D27) -> 15244843 | E18: =D18/C18*100 -> 111.98756
A19: 6.1. Nemzeti Egészségbiztosítási Alapkezelő | B19: =7200000-1315982 -> 5884018 | C19: 7200000 | D19: 8382200 | E19: =D19/C19*100 -> 116.41944
A20: 6.2. Közfoglalkoztatási támogatás | B20: 2260000 | C20: 2686000 | D20: =2365279-87000 -> 2278279 | E20: =D20/C20*100 -> 84.820514
A21: 6.3. EU-s programok támogatása | B21: 578536 | C21: 578536 | D21: 923401 | E21: =D21/C21*100 -> 159.60995
A22: 6.4. Szociális ágazati összevont pótlék | B22: 258540 | C22: 0 | D22: 0 | E22: 0
A23: 6.5. Nemzeti Kulturális Alap támogatása | B23: 0 | C23: 387000 | D23: 387000 | E23: =D23/C23*100 -> 100
A24: 6.6. Éltető értékek, közösség-értékszemle Pécselyen | B24: 0 | C24: 1740000 | D24: 1740000 | E24: =D24/C24*100 -> 100
A25: 6.7. Kulturális bérfejlesztés támogatása | B25: 0 | C25: 705120 | D25: 705120 | E25: =D25/C25*100 -> 100
A26: 6.8. Egyéb működési célú támogatás | B26: 0 | C26: 0 | D26: 512520 | E26: 0
A27: 6.9. 2021. évi elszámolás KÖH | B27: 0 | C27: 316323 | D27: 316323 | E27: =D27/C27*100 -> 100
A28: II. Felhalmozási célú támogatások államháztartáson belülről | B28: =B29+B36 -> 89845925 | C28: =C29+C36 -> 89845925 | D28: =D29+D36 -> 85402414 | E28: =D28/C28*100 -> 95.054299
A29: 1.1. Felhalmozási célú központosított támogatások | B29: 89845925 | C29: 0 | D29: 0 | E29: 0
A30: 1.2. Felhalmozási célú egyéb támogatások
A31: 1.3. Belterületi utak felújítása támogatás
A32: 1.4. Adósságkonszolidációs tám.
A33: 2. Felhalmozási célú garancia- és kezességvállalásból származó megtérülések áh-n belülről
A34: 3. Felhalmozási célú visszatérítendő támogatások, kölcsönök visszatérülése áh-n belülről
A35: 4. Felhalmozási célú visszatérítendő támogatások, kölcsönök igénybevétele áh-n belülről
A36: 5. Egyéb felhalmozási célú támogatások államháztartáson belülről | B36: 0 | C36: 89845925 | D36: 85402414 | E36: =D36/C36*100 -> 95.054299
A37: Megnevezés | B37: =B4 -> 2022. évi eredeti előirányzat | C37: =C4 -> 2022. évi módosított előirányzat IV. | D37: =D4 -> 2022. évi teljesítés | E37: %
A38: III. Közhatalmi bevételek | B38: =B39+B43+B51 -> 18400000 | C38: =C39+C43+C51 -> 18400000 | D38: =D39+D43+D51 -> 23925630 | E38: =D38/C38*100 -> 130.0306
A39: 1. Vagyoni típusú adók | B39: =SUM(B40:B42) -> 10000000 | C39: =SUM(C40:C42) -> 10000000 | D39: =SUM(D40:D42) -> 10644921 | E39: =D39/C39*100 -> 106.44921
A40: 1.1. Építményadó | B40: 0 | C40: 0 | D40: 0 | E40: 0
A41: 1.2. Telekadó | B41: 200000 | C41: 200000 | D41: 250071 | E41: =D41/C41*100 -> 125.0355
A42: 1.3. Magánszemélyek kommunális adója | B42: 9800000 | C42: 9800000 | D42: 10394850 | E42: =D42/C42*100 -> 106.0699
...

Sheet 6. melléklet
A1: Működési kiadások 2022. év
A4: Megnevezés | B4: ='4. melléklet'!B6 -> 2022. évi eredeti előirányzat | C4: ='4. melléklet'!C6 -> 2022. évi módosított előirányzat IV. | D4: ='4. melléklet'!D6 -> 2022. évi teljesítés | E4: Eltérés
A5: I. Személyi juttatások | B5: =SUM(B6:B6) -> 36096077 | C5: =SUM(C6:C6) -> 37950233 | D5: =SUM(D6:D6) -> 36623432 | E5: =D5/C5*100 -> 96.50384
A6: Személyi juttatások | B6: 36096077 | C6: 37950233 | D6: 36623432 | E6: =D6/C6*100 -> 96.50384
A7: II. Munkaadót terhelő járulékok | B7: =SUM(B8:B8) -> 4570155 | C7: =SUM(C8:C8) -> 4789960 | D7: =SUM(D8:D8) -> 4746491 | E7: =D7/C7*100 -> 99.092498
A8: Munkaadót terhelő járulékok | B8: 4570155 | C8: 4789960 | D8: 4746491 | E8: =D8/C8*100 -> 99.092498
A9: III. Dologi kiadások | B9: =SUM(B10:B31) -> 36244972 | C9: =SUM(C10:C31) -> 45554357 | D9: =SUM(D10:D31) -> 37739124 | E9: =D9/C9*100 -> 82.844159
A10: Szakmai anyagok beszerzése | B10: 90000 | C10: 90000 | D10: 44657 | E10: =D10/C10*100 -> 49.618889
A11: Üzemeltetési anyagok beszerzése | B11: 2500000 | C11: 3245900 | D11: 2652824 | E11: =D11/C11*100 -> 81.728457
A12: Árubeszerzés | B12: 0 | C12: 0 | D12: 0 | E12: 0
A13: Informatikai szolgáltatások igénybevétele | B13: 1100000 | C13: 1115000 | D13: 1008841 | E13: =D13/C13*100 -> 90.479013
A14: Egyéb kommunikációs szolgáltatások | B14: 450000 | C14: 450000 | D14: 412728 | E14: =D14/C14*100 -> 91.717333
A15: Közüzemi díjak | B15: 5500000 | C15: 12460000 | D15: 11876742 | E15: =D15/C15*100 -> 95.318957
A16: Vásárolt élelmezés | B16: 0 | C16: 0 | D16: 0 | E16: 0
A17: Bérleti és lízing díjak | B17: 0 | C17: 44000 | D17: 44000 | E17: 0
A18: Karbantartási, kisjavítási szolgáltatások | B18: 1200000 | C18: 1200000 | D18: 1162109 | E18: =D18/C18*100 -> 96.842417
A19: Közvetített szolgáltatások | B19: 800000 | C19: 430000 | D19: 421626 | E19: =D19/C19*100 -> 98.052558
A20: Szakmai tevékenységet segítő szolgáltatások | B20: 4500000 | C20: 2965900 | D20: 2942577 | E20: =D20/C20*100 -> 99.213628
A21: Egyéb szolgáltatások | B21: 5500000 | C21: =7221302+80955 -> 7302257 | D21: =7353375+583570 -> 7936945 | E21: =D21/C21*100 -> 108.69167
A22: TOP-2.1.3-16-VE1-2021-00041 | B22: 6154972 | C22: =4071509+1258538+250000+574925 -> 6154972 | D22: 250000 | E22: =D22/C22*100 -> 4.0617569
A23: NKA - Látogatás a Magyar Zene Házába | B23: 0 | C23: 387000 | D23: 0 | E23: =D23/C23*100 -> 0
A24: Önkormányzati rendezvények | B24: 1000000 | C24: 0 | D24: 0 | E24: 0
A25: Felelős állatartás támogatása | B25: 0 | C25: 1003100 | D25: 1003100 | E25: =D25/C25*100 -> 100
A26: Kiküldetések kiadásai | B26: 150000 | C26: 250000 | D26: 231110 | E26: =D26/C26*100 -> 92.444
A27: Reklám- és propagandakiadások | B27: 100000 | C27: 0 | D27: 0 | E27: 0
A28: Működési célú előzetesen felszámított ÁFA | B28: 5000000 | C28: 6084228 | D28: 5680793 | E28: =D28/C28*100 -> 93.369167
A29: Fizetendő általános forgalmi adó | B29: 1100000 | C29: 1100000 | D29: 1050000 | E29: =D29/C29*100 -> 95.454545
A30: Egyéb pénzügyi műveletek kiadásai | B30: 0 | C30: 0 | D30: 0 | E30: 0
A31: Egyéb dologi kiadások | B31: 1100000 | C31: 1272000 | D31: 1021072 | E31: =D31/C31*100 -> 80.272956
A33: IV. Egyéb működési célú kiadások | B33: =SUM(B34:B36) -> 18081399 | C33: =SUM(C34:C36) -> 20104436 | D33: =SUM(D34:D36) -> 19809948 | E33: =D33/C33*100 -> 98.535209
A34: 1. Működési célú támogatások államháztartáson belülre | B34: ='7. melléklet'!B5 -> 17981399 | C34: ='7. melléklet'!C5 -> 19175126 | D34: ='7. melléklet'!D5 -> 18880638 | E34: =D34/C34*100 -> 98.464219
A35: 2. Működési célú támogatások államháztartáson kívülre | B35: ='7. melléklet'!B12 -> 100000 | C35: ='7. melléklet'!C12 -> 150000 | D35: ='7. melléklet'!D12 -> 150000 | E35: =D35/C35*100 -> 100
A36: 3. Állami támogatás visszafizetése elszámolás alapján | B36: 0 | C36: 779310 | D36: 779310 | E36: 0
A38: V. Ellátottak pénzbeli juttatásai | B38: =SUM(B39:B40) -> 4018000 | C38: =SUM(C39:C40) -> 4018000 | D38: =SUM(D39:D40) -> 3778000 | E38: =D38/C38*100 -> 94.026879
A39: Egyéb önkormányzati támogatás, átmeneti segély | B39: 3634000 | C39: 3634000 | D39: 3394000 | E39: =D39/C39*100 -> 93.395707
A40: Ápolási díj | B40: 384000 | C40: 384000 | D40: 384000 | E40: =D40/C40*100 -> 100
A42: Önkormányzati feladatok összesen: | B42: =B5+B7+B9+B33+B38 -> 99010603 | C42: =C5+C7+C9+C33+C38 -> 112416986 | D42: =D5+D7+D9+D33+D38 -> 102696995 | E42: =D42/C42*100 -> 91.353628

Sheet 7. melléklet
A1: Működési kiadások 2022. év
A4: Megnevezés | B4: ='4. melléklet'!B6 -> 2022. évi eredeti előirányzat | C4: ='4. melléklet'!C6 -> 2022. évi módosított előirányzat IV. | D4: ='4. melléklet'!D6 -> 2022. évi teljesítés | E4: %
A5: Működési célú támogatás államháztartáson belülre | B5: =SUM(B6:B11) -> 17981399 | C5: =SUM(C6:C11) -> 19175126 | D5: =SUM(D6:D11) -> 18880638 | E5: =D5/C5*100 -> 98.464219
A6: Közoktatási Intézményfenntartó Társulás (Óvoda) | B6: 4562174 | C6: 4562174 | D6: 4527591 | E6: =D6/C6*100 -> 99.241962
A7: Balatonfüredi Közös Önkormányzati Hivatal (Hivatal) | B7: 12079225 | C7: 12965352 | D7: 12965352 | E7: =D7/C7*100 -> 100
A8: Balatonfüredi Többcélú Társulás (Jelzőrendszeres házi segítségnyújtás, Házi segítségnyújtás, belső ellenőrzés) | B8: 800000 | C8: 800000 | D8: 540095 | E8: =D8/C8*100 -> 67.511875
A9: BURSA ösztöndíj | B9: 540000 | C9: 540000 | D9: 540000 | E9: =D9/C9*100 -> 100
A10: Előző évi közfoglakoztatási támogatás visszafizetése | B10: 0 | C10: 0 | D10: 0 | E10: 0
A11: Felelős állattartás támogatás visszafizetése | B11: 0 | C11: 307600 | D11: 307600 | E11: =D11/C11*100 -> 100
A12: Működési célú támogatás államháztartáson kívülre | B12: 100000 | C12: =C13+C14 -> 150000 | D12: =D13+D14 -> 150000 | E12: =D12/C12*100 -> 100
A13: Pécselyi Református Egyházközség | B13: 0 | C13: 100000 | D13: 100000 | E13: =D13/C13*100 -> 100
A14: Pécselyi Sportegyesület | B14: 0 | C14: 50000 | D14: 50000 | E14: 0
A15: Új Színház Alapítvány | B15: 0 | C15: 0 | D15: 0 | E15: 0
A18: Összesen: | B18: =B12+B5 -> 18081399 | C18: =C12+C5 -> 19325126 | D18: =D12+D5 -> 19030638 | E18: =D18/C18*100 -> 98.476139

Sheet 8. melléklet
A1: Felhalmozási kiadások 2022. év
A3: Megnevezés | B3: ='4. melléklet'!B6 -> 2022. évi eredeti előirányzat | C3: ='4. melléklet'!C6 -> 2022. évi módosított előirányzat IV. | D3: ='4. melléklet'!D6 -> 2022. évi teljesítés | E3: %
A4: I. Beruházások
A5: Immateriális javak beszerzése | B5: 1473200 | C5: 1473200 | D5: 1473200 | E5: =D5/C5*100 -> 100
A6: Település fejlesztési koncepció | B6: 1473200 | C6: 1473200 | D6: 1473200 | E6: =D6/C6*100 -> 100
A7: Ingatlanok beszerzése | B7: =SUM(B8:B10) -> 84555953 | C7: =SUM(C8:C10) -> 84555953 | D7: =SUM(D10:D10) -> 2560000 | E7: =D7/C7*100 -> 3.027581
A8: Balaton utcai járda tervezése | B8: 500000 | C8: 500000 | D8: 0 | E8: 0
A9: Kultúrház korlát | B9: 1000000 | C9: 1000000 | D9: 0 | E9: 0
A10: TOP-2.1.3-16-VE1-2021-00041 Csapadékvíz-elvezető hálózat rekonstrukciója vízrendezéssel | B10: 83055953 | C10: 83055953 | D10: 2560000 | E10: =D10/C10*100 -> 3.0822595
A11: Informatikai eszközök beszerzése | B11: =SUM(B12:B12) -> 400000 | C11: =SUM(C12:C12) -> 400000 | D11: =SUM(D12:D12) -> 0 | E11: =D11/C11*100 -> 0
A12: Számítógép beszerzése - hivatal | B12: 400000 | C12: 400000 | D12: 0 | E12: =D12/C12*100 -> 0
A13: Egyéb tárgyi eszköz beszerzése | B13: =SUM(B14:B20) -> 17133815 | C13: =SUM(C14:C20) -> 18216758 | D13: =SUM(D14:D20) -> 18072930 | E13: =D13/C13*100 -> 99.210463
A14: Hulladékgyűjtők, padok beszerzése | B14: 0 | C14: 573065 | D14: 573065 | E14: =D14/C14*100 -> 100
A15: Kazán beszerzése - önkormányzati lakás | B15: 0 | C15: 710640 | D15: 708354 | E15: =D15/C15*100 -> 99.678318
A16: Utánfutó vásárlása | B16: 400000 | C16: 426593 | D16: 426593 | E16: =D16/C16*100 -> 100
A17: Kisértékű eszközök beszerzése | B17: 1000000 | C17: 985000 | D17: 936069 | E17: =D17/C17*100 -> 95.032386
A18: Eszközbeszerzés - könyvtár | B18: 454000 | C18: 454000 | D18: 362287 | E18: =D18/C18*100 -> 79.798899
A19: Hallásvizsgáló vásárlása -védőnő | B19: 450000 | C19: 465000 | D19: 464102 | E19: =D19/C19*100 -> 99.806882
A20: Kommunális eszköz beszerzése MFP | B20: 14829815 | C20: 14602460 | D20: 14602460 | E20: =D20/C20*100 -> 100
A21: I. Beruházások összesen: | B21: =B5+B7+B11+B13 -> 103562968 | C21: =C5+C7+C11+C13 -> 104645911 | D21: =D5+D7+D11+D13 -> 22106130 | E21: =D21/C21*100 -> 21.124695
A23: II. Felújítások
A24: Mozgáskorlátozott feljáró (orvosi rendelő) | B24: 50000 | C24: 50000 | D24: 50000 | E24: =D24/C24*100 -> 100
A25: Orvosi rendelő és lakás átalakítás tervezése | B25: 500000 | C25: 500000 | D25: 0 | E25: =D25/C25*100 -> 0
A26: Prés körül térkövezés, ácsmunkák kivitelezése | B26: 500000 | C26: 500000 | D26: 0 | E26: 0
A27: Iskola kerítés javítása | B27: 500000 | C27: 500000 | D27: 0 | E27: 0
A28: Konditerem felújítása | B28: 150000 | C28: 150000 | D28: 0 | E28: =D28/C28*100 -> 0
A29: II. Felújítások összesen: | B29: =SUM(B24:B28) -> 1700000 | C29: =SUM(C24:C28) -> 1700000 | D29: =SUM(D24:D28) -> 50000 | E29: =D29/C29*100 -> 2.9411765
A31: III. Egyéb felhalmozási kiadások: | B31: =B32+B34 -> 58929 | C31: =C32+C34 -> 286284 | D31: =D32+D34 -> 286283 | E31: =D31/C31*100 -> 99.999651
A32: Egyéb felhalmozási célú támogatás ÁHB | B32: =B33 -> 58929 | C32: =C33+227355 -> 286284 | D32: =D33+227355 -> 286283 | E32: =D32/C32*100 -> 99.999651
A33: Balatonfüredi Közoktatási Intézményfenntartó Társulás | B33: 58929 | C33: 58929 | D33: 58928 | E33: =D33/C33*100 -> 99.998303
A34: Egyéb felhalmozási célú támogatás ÁHK | B34: 0 | C34: 0 | D34: 0 | E34: 0
A35: Felhalmozási kiadások összesen: | B35: =B31+B29+B21 -> 105321897 | C35: =C31+C29+C21 -> 106632195 | D35: =D31+D29+D21 -> 22442413 | E35: =D35/C35*100 -> 21.046564
A36: IV. Finanszírozási kiadások
A37: Hitel törlesztés
A38: Forgatási célú értékpapír vásárlás
A39: Állami támogatás megelőlegezés visszafizetés | B39: 2145736 | C39: 2145736 | D39: 1250688 | E39: =D39/C39*100 -> 58.287133
A40: IV. Finanszírozási kiadások összesen: | B40: =SUM(B37:B39) -> 2145736 | C40: =SUM(C37:C39) -> 2145736 | D40: =SUM(D37:D39) -> 1250688 | E40: =D40/C40*100 -> 58.287133

Sheet 9. melléklet
A4: Az önkormányzat működési bevételei és kiadásai
A6: 1. Működési bevételek | B6: ='4. melléklet'!B6 -> 2022. évi eredeti előirányzat | C6: ='4. melléklet'!C6 -> 2022. évi módosított előirányzat IV. | D6: ='4. melléklet'!D6 -> 2022. évi teljesítés | E6: % | F6: 2. Működési kiadások | G6: =B6 -> 2022. évi eredeti előirányzat | H6: =C6 -> 2022. évi módosított előirányzat IV. | I6: =D6 -> 2022. évi teljesítés | J6: %
A7: 1. Működési célú támogatások államháztartáson belülről | B7: ='4. melléklet'!B7 -> 44553517 | C7: ='4. melléklet'!C7 -> 55074022 | D7: ='4. melléklet'!D7 -> 56705886 | E7: =D7/C7*100 -> 102.96304 | F7: 1. Személyi juttatások | G7: ='6. melléklet'!B5 -> 36096077 | H7: ='6. melléklet'!C5 -> 37950233 | I7: ='6. melléklet'!D5 -> 36623432 | J7: =I7/H7*100 -> 96.50384
A8: 2. Közhatalmi bevételek | B8: ='4. melléklet'!B9 -> 18400000 | C8: ='4. melléklet'!C9 -> 18400000 | D8: ='4. melléklet'!D9 -> 23925630 | E8: =D8/C8*100 -> 130.0306 | F8: 2. Munkaadót terhelő járulékok és szoc.hj. adó | G8: ='6. melléklet'!B7 -> 4570155 | H8: ='6. melléklet'!C7 -> 4789960 | I8: ='6. melléklet'!D7 -> 4746491 | J8: =I8/H8*100 -> 99.092498
A9: 3. Működési bevételek | B9: ='4. melléklet'!B10 -> 8646259 | C9: ='4. melléklet'!C10 -> 8646259 | D9: ='4. melléklet'!D10 -> 9470600 | E9: =D9/C9*100 -> 109.53408 | F9: 3. Dologi kiadások | G9: ='6. melléklet'!B9 -> 36244972 | H9: ='6. melléklet'!C9 -> 45554357 | I9: ='6. melléklet'!D9 -> 37739124 | J9: =I9/H9*100 -> 82.844159
A10: 4. Működési célú átvett pénzeszközök államháztartáson kivülről | B10: ='4. melléklet'!B12 -> 0 | C10: ='4. melléklet'!C12 -> 0 | D10: ='4. melléklet'!D12 -> 200000 | F10: 4. Ellátottak pénzbeli juttatásai | G10: ='6. melléklet'!B38 -> 4018000 | H10: ='6. melléklet'!C38 -> 4018000 | I10: ='6. melléklet'!D38 -> 3778000 | J10: =I10/H10*100 -> 94.026879
F11: 5. Egyéb működési célú kiadások | G11: ='6. melléklet'!B33 -> 18081399 | H11: ='6. melléklet'!C33 -> 20104436 | I11: ='6. melléklet'!D33 -> 19809948 | J11: =I11/H11*100 -> 98.535209
F12: 5.1. Elvonások, befizetések | G12: ='6. melléklet'!B36 -> 0 | H12: ='6. melléklet'!C36 -> 779310 | I12: ='6. melléklet'!D36 -> 779310 | J12: 0
F13: 5.2. Egyéb működési célú támogatások áh-n belülre | G13: ='7. melléklet'!B5 -> 17981399 | H13: ='7. melléklet'!C5 -> 19175126 | I13: ='7. melléklet'!D5 -> 18880638 | J13: =I13/H13*100 -> 98.464219
F14: 5.4. Egyéb működési célú támogatások áh-n kívülre | G14: ='7. melléklet'!B12 -> 100000 | H14: ='7. melléklet'!C12 -> 150000 | I14: ='7. melléklet'!D12 -> 150000 | J14: =I14/H14*100 -> 100
F15: 5.5. Működési célú visszatérítendő támogatások, kölcsönök nyújtása áh-n kívülre | G15: 0 | H15: 0 | I15: 0
F16: 6. Pénzforgalom nélküli kiadások (tartalék) | G16: ='4. melléklet'!B31 -> 2917589 | H16: ='4. melléklet'!C31 -> 4268817 | I16: ='4. melléklet'!D31 -> 0 | J16: =I16/H16*100 -> 0
A17: Összes költségvetési működési bevétel: | B17: =SUM(B7:B16) -> 71599776 | C17: =SUM(C7:C16) -> 82120281 | D17: =SUM(D7:D16) -> 90302116 | E17: =D17/C17*100 -> 109.96323 | F17: Összes költségvetési működési kiadás: | G17: =G7+G8+G9+G10+G11+G16 -> 101928192 | H17: =H7+H8+H9+H10+H11+H16 -> 116685803 | I17: =I7+I8+I9+I10+I11+I16 -> 102696995 | J17: =I17/H17*100 -> 88.01156
A18: Működési többlet: | F18: Működési hiány: | G18: =B17-G17 -> -30328416 | H18: =C17-H17 -> -34565522 | I18: =D17-I17 -> -12394879 | J18: =I18/H18*100 -> 35.859082
A19: Költségvetési hiány belső finanszírozása működési célú | B19: =SUM(B20) -> 47000000 | C19: =SUM(C20) -> 51217515 | D19: =SUM(D20) -> 51217515 | E19: =D19/C19*100 -> 100 | F19: Finanszírozási célú műveletek kiadásai működési célú | G19: =SUM(G20:G21) -> 2145736 | H19: =SUM(H20:H21) -> 2145736 | I19: =SUM(I20:I21) -> 1250688 | J19: =I19/H19*100 -> 58.287133
A20: 5. Költségvetési Maradvány | B20: ='5. melléklet'!B81 -> 47000000 | C20: ='5. melléklet'!C81 -> 51217515 | D20: ='5. melléklet'!D81 -> 51217515 | E20: =D20/C20*100 -> 100 | F20: 7. Állami támogatás megelőlegezés visszafizetése | G20: ='4. melléklet'!B37 -> 2145736 | H20: ='4. melléklet'!C37 -> 2145736 | I20: ='4. melléklet'!D37 -> 1250688 | J20: =I20/H20*100 -> 58.287133
A21: Költségvetési hiány külső finanszírozása működési célú | B21: =SUM(B22:B25) -> 950124 | C21: =SUM(C22:C25) -> 2280013 | D21: =SUM(D22:D25) -> 1384965 | E21: =D21/C21*100 -> 60.743733 | F21: 8. Hitelek törlesztése
A22: 6. Értékpapír kibocsátás, értékesítés | F22: 9. Betét vásárlás
A23: 7. Hitelfelvétel
A24: 8. Állami támogatás megelőlegezés | B24: ='5. melléklet'!B88 -> 950124 | C24: ='5. melléklet'!C88 -> 2280013 | D24: ='5. melléklet'!D88 -> 1384965 | E24: =D24/C24*100 -> 60.743733
A25: 9. Lekötött betét bevonása
A26: Összes működési bevétel: | B26: =B17+B19+B21 -> 119549900 | C26: =C17+C19+C21 -> 135617809 | D26: =D17+D19+D21 -> 142904596 | E26: =D26/C26*100 -> 105.37303 | F26: Összes működési kiadás | G26: =G19+G17 -> 104073928 | H26: =H19+H17 -> 118831539 | I26: =I19+I17 -> 103947683 | J26: =I26/H26*100 -> 87.474827
A28: Az Önkormányzat felhalmozási bevételei és kiadásai 2022. év
A30: 1. Felhalmozási bevételek | B30: ='4. melléklet'!B6 -> 2022. évi eredeti előirányzat | C30: ='4. melléklet'!C6 -> 2022. évi módosított előirányzat IV. | D30: ='4. melléklet'!D6 -> 2022. évi teljesítés | E30: % | F30: 2. Felhalmozási kiadások | G30: =B30 -> 2022. évi eredeti előirányzat | H30: =C30 -> 2022. évi módosított előirányzat IV. | I30: =D30 -> 2022. évi teljesítés | J30: %
A31: 1. Felhalmozási célú támogatások államháztartáson belülről | B31: ='4. melléklet'!B8 -> 89845925 | C31: ='4. melléklet'!C8 -> 89845925 | D31: ='4. melléklet'!D8 -> 85402414 | E31: 100 | F31: 1.1. Beruházások | G31: ='4. melléklet'!B27 -> 103562968 | H31: ='4. melléklet'!C27 -> 104645911 | I31: ='4. melléklet'!D27 -> 22106130 | J31: =I31/H31*100 -> 21.124695
A32: 2. Felhalmozási bev. | B32: 0 | C32: ='4. melléklet'!C11:G11 -> 0 | D32: ='4. melléklet'!D11:H11 -> 0 | E32: 0 | F32: 1.2. Int.saját hatáskörű fejlesztések
A33: 3. Felhalmozási célú átvett pénzeszközök | B33: ='4. melléklet'!B13 -> 0 | C33: ='4. melléklet'!C13 -> 0 | D33: ='4. melléklet'!D13 -> 0 | E33: 0 | F33: 2. Felújítások | G33: ='4. melléklet'!B28 -> 1700000 | H33: ='4. melléklet'!C28 -> 1700000 | I33: ='4. melléklet'!D28 -> 50000 | J33: =I33/H33*100 -> 2.9411765
F34: 3. Egyéb felhalmozási kiadások | G34: =SUM(G35:G38) -> 58929 | H34: =SUM(H35:H38) -> 286284 | I34: =SUM(I35:I38) -> 286283 | J34: =I34/H34*100 -> 99.999651
F35: 3.1. Egyéb felhalmozási célú támogatások áh-n kívülre
F36: 3.2. Egyéb felhalmozási célú támogatások áh-n belülre | G36: ='8. melléklet'!B31 -> 58929 | H36: ='8. melléklet'!C31 -> 286284 | I36: ='8. melléklet'!D31 -> 286283 | J36: =I36/H36*100 -> 99.999651
F37: 3.3. Felhalmozási célú visszatérítendő támogatások, kölcsönök nyújtása áh-n belülre
F38: 3.3. Felhalmozási célú visszatérítendő támogatások, kölcsönök nyújtása áh-n kívülre
A39: Összes költségvetési felhalmozási bevétel: | B39: =SUM(B31:B37) -> 89845925 | C39: =SUM(C31:C37) -> 89845925 | D39: =SUM(D31:D37) -> 85402414 | E39: =D39/C39*100 -> 95.054299 | F39: Összes költségvetési felhalmozási kiadás: | G39: =SUM(G31:G34) -> 105321897 | H39: =SUM(H31:H34) -> 106632195 | I39: =SUM(I31:I34) -> 22442413 | J39: =I39/H39*100 -> 21.046564
A40: Felhalmozási többlet: | F40: Felhalmozási hiány: | G40: =B39-G39 -> -15475972 | H40: =C39-H39 -> -16786270 | I40: =D39-I39 -> 62960001 | J40: =I40/H40*100 -> -375.06844
A41: Költségvetési hiány belső finanszírozása felhalmozási célú | F41: Finanszírozási célú műveletek kiadásai felhalmozási célú
A42: 4.Költségvetési maradvány | F42: 4. Értékpapírok visszavásárlása
A43: Költségvetési hiány külső finanszírozása felhalmozási célú | B43: =SUM(B44:B45) -> 0 | C43: =SUM(C44:C45) -> 0 | D43: =SUM(D44:D45) -> 0 | E43: 0 | F43: 5. Hitelek törlesztése
A44: 5. Értékpapír kibocsátás, értékesítés | F44: 6. Állami támogatás megelőlegezés visszafizetése
A45: 6. Hitelfelvétel
A46: Összes felhalmozási bevétel: | B46: =B39+B41+B43 -> 89845925 | C46: =C39+C41+C43 -> 89845925 | D46: =D39+D41+D43 -> 85402414 | E46: =D46/C46*100 -> 95.054299 | F46: Összes felhalmozási kiadás | G46: =G39+G41 -> 105321897 | H46: =H39+H41 -> 106632195 | I46: =I39+I41 -> 22442413 | J46: =I46/H46*100 -> 21.046564
...

Sheet 10. melléklet
A4: Az Önkormányzat kötelező feladatok bevételei és kiadásai 2022. év
A6: 1. Működési bevételek | B6: ='4. melléklet'!B6 -> 2022. évi eredeti előirányzat | C6: ='4. melléklet'!C6 -> 2022. évi módosított előirányzat IV. | D6: ='4. melléklet'!D6 -> 2022. évi teljesítés | E6: % | F6: 2. Működési kiadások | G6: =B6 -> 2022. évi eredeti előirányzat | H6: =C6 -> 2022. évi módosított előirányzat IV. | I6: =D6 -> 2022. évi teljesítés | J6: %
A7: Működési bevételek | F7: Működési kiadások
A8: 1. Működési támogatások államháztartáson belülről | B8: ='9. melléklet'!B7 -> 44553517 | C8: ='9. melléklet'!C7 -> 55074022 | D8: ='9. melléklet'!D7 -> 56705886 | E8: =D8/C8*100 -> 102.96304 | F8: 1. Személyi juttatások | G8: ='9. melléklet'!G7 -> 36096077 | H8: ='9. melléklet'!H7 -> 37950233 | I8: ='9. melléklet'!I7 -> 36623432 | J8: =I8/H8*100 -> 96.50384
A9: 2. Közhatalmi bevételek | B9: ='9. melléklet'!B8 -> 18400000 | C9: ='9. melléklet'!C8 -> 18400000 | D9: ='9. melléklet'!D8 -> 23925630 | E9: =D9/C9*100 -> 130.0306 | F9: 2. Munkaadót terhelő járulékok | G9: ='9. melléklet'!G8 -> 4570155 | H9: ='9. melléklet'!H8 -> 4789960 | I9: ='9. melléklet'!I8 -> 4746491 | J9: =I9/H9*100 -> 99.092498
A10: 3. Működési bevételek | B10: ='9. melléklet'!B9-2480000 -> 6166259 | C10: ='9. melléklet'!C9-2480000 -> 6166259 | D10: ='9. melléklet'!D9-1940624 -> 7529976 | E10: =D10/C10*100 -> 122.11579 | F10: 3. Dologi kiadások | G10: ='9. melléklet'!G9 -> 36244972 | H10: ='9. melléklet'!H9 -> 45554357 | I10: ='9. melléklet'!I9 -> 37739124 | J10: =I10/H10*100 -> 82.844159
A11: 4. Működési célú átvett pénzeszközök államháztartáson kivülről | B11: ='9. melléklet'!B10 -> 0 | C11: ='9. melléklet'!C10 -> 0 | D11: ='9. melléklet'!D10 -> 200000 | E11: 0 | F11: 4. Ellátottak pénzbeli juttatásai | G11: ='9. melléklet'!G10 -> 4018000 | H11: ='9. melléklet'!H10 -> 4018000 | I11: ='9. melléklet'!I10 -> 3778000 | J11: =I11/H11*100 -> 94.026879
F12: 5. Egyéb működési célú kiadások
F13: 5.1. Elvonások, befizetések | G13: ='9. melléklet'!G12 -> 0 | H13: ='9. melléklet'!H12 -> 779310 | I13: ='9. melléklet'!I12 -> 779310 | J13: 0
F14: 5.2. Egyéb működési célú támogatások áh-n belülre | G14: ='7. melléklet'!B5 -> 17981399 | H14: ='7. melléklet'!C5 -> 19175126 | I14: ='7. melléklet'!D5 -> 18880638 | J14: =I14/H14*100 -> 98.464219
F15: 5.4. Egyéb működési célú támogatások áh-n kívülre | G15: 0 | H15: 0 | I15: 0
F16: 5.5. Működési célú visszatérítendő támogatások, kölcsönök nyújtása áh-n kívülre | G16: ='9. melléklet'!G15 -> 0 | H16: ='9. melléklet'!H15 -> 0 | I16: ='9. melléklet'!I15 -> 0
F17: 6. Pénzforgalom nélküli kiadások (tartalék) | G17: ='9. melléklet'!G16 -> 2917589 | H17: ='9. melléklet'!H16 -> 4268817 | I17: ='9. melléklet'!I16 -> 0 | J17: =I17/H17*100 -> 0
A18: Költségvetési működési bevételek kötelező feladatok szerinti bontásban | B18: =SUM(B8:B17) -> 69119776 | C18: =SUM(C8:C17) -> 79640281 | D18: =SUM(D8:D17) -> 88361492 | E18: =D18/C18*100 -> 110.95075 | F18: Költségvetési felhalmozási kiadások kötelező feladatok szerinti bontásban | G18: =SUM(G8:G17) -> 101828192 | H18: =SUM(H8:H17) -> 116535803 | I18: =SUM(I8:I17) -> 102546995 | J18: =I18/H18*100 -> 87.996129
A19: Finanszírozási bevételek | B19: ='4. melléklet'!B18 -> 47950124 | C19: ='4. melléklet'!C18 -> 53497528 | D19: ='4. melléklet'!D18 -> 52602480 | E19: =D19/C19*100 -> 98.326936 | F19: Finanszírozási kiadások | G19: ='4. melléklet'!B38 -> 2145736 | H19: ='4. melléklet'!C38 -> 2145736 | I19: ='4. melléklet'!D38 -> 1250688 | J19: ='4. melléklet'!E38 -> 58.287133
A20: Működési bevételek kiemelt előirányzatonként kötelező feladatok szerinti bontásban | B20: =B18+B19 -> 117069900 | C20: =C18+C19 -> 133137809 | D20: =D18+D19 -> 140963972 | E20: =D20/C20*100 -> 105.87824 | F20: Működési kiadások kiemelt előirányzatonként kötelező feladatok szerinti bontásban | G20: =G18+G19 -> 103973928 | H20: =H18+H19 -> 118681539 | I20: =I18+I19 -> 103797683 | J20: =I20/H20*100 -> 87.458996
A21: Felhalmozási bevételek | F21: Felhalmozási kiadások
A22: 1. Felhalmozási célú támogatások államháztartáson belülről | B22: ='9. melléklet'!B31 -> 89845925 | C22: ='9. melléklet'!C31 -> 89845925 | D22: ='9. melléklet'!D31 -> 85402414 | E22: =D22/C22*100 -> 95.054299 | F22: 1.1. Beruházások | G22: ='9. melléklet'!G31 -> 103562968 | H22: ='9. melléklet'!H31 -> 104645911 | I22: ='9. melléklet'!I31 -> 22106130 | J22: =I22/H22*100 -> 21.124695
A23: 2. Felhalmozási bevételek | B23: ='9. melléklet'!B32 -> 0 | C23: ='9. melléklet'!C32 -> 0 | D23: ='9. melléklet'!D32 -> 0 | E23: 0 | F23: 1.2. Int.saját hatáskörű fejlesztések
A24: 3. Felhalmozási célú átvett pénzeszközök áh-n kívülről | B24: ='9. melléklet'!B33 -> 0 | C24: ='9. melléklet'!C33 -> 0 | D24: ='9. melléklet'!D33 -> 0 | E24: 0 | F24: 2. Felújítások | G24: ='9. melléklet'!G33 -> 1700000 | H24: ='9. melléklet'!H33 -> 1700000 | I24: ='9. melléklet'!I33 -> 50000 | J24: =I24/H24*100 -> 2.9411765
F25: 3. Egyéb felhalmozási célú kiadások | G25: 0 | H25: 0 | I25: 0 | J25: 0
F26: 3.1. Egyéb felhalmozási célú pénzeszköz átadás áh-n kívülre
F27: 3.2. Egyéb felhalmozási célú pénzeszköz átadás áh-n belülre
F28: 3.4. Felhalmozási célú visszatérítendő támogatások, kölcsönök nyújtása áh-n kívülre
A29: Költségvetési felhalmozási bevételek kötelező feladatok szerinti bontásban | B29: =SUM(B22:B28) -> 89845925 | C29: =SUM(C22:C28) -> 89845925 | D29: =SUM(D22:D28) -> 85402414 | E29: =D29/C29*100 -> 95.054299 | F29: Költségvetési felhalmozási kiadások kötelező feladatok szerinti bontásban | G29: =SUM(G22:G28) -> 105262968 | H29: =SUM(H22:H28) -> 106345911 | I29: =SUM(I22:I28) -> 22156130 | J29: =I29/H29*100 -> 20.834022
A30: Finanszírozási bevételek | F30: Finanszírozási kiadások
A31: Felhalmozási bevételek kiemelt előirányzatonként kötelező feladatok szerinti bontásban | B31: =B29+B30 -> 89845925 | C31: =C29+C30 -> 89845925 | D31: =D29+D30 -> 85402414 | E31: =D31/C31*100 -> 95.054299 | F31: Felhalmozási kiadások kiemelt előirányzatonként kötelező feladatok szerinti bontásban | G31: =G29+G30 -> 105262968 | H31: =H29+H30 -> 106345911 | I31: =I29+I30 -> 22156130 | J31: =I31/H31*100 -> 20.834022
B32: =B31+B20 -> 206915825 | C32: =C31+C20 -> 222983734 | D32: =D31+D20 -> 226366386 | E32: =D32/C32*100 -> 101.51699 | G32: =G31+G20 -> 209236896 | H32: =H31+H20 -> 225027450 | I32: =I31+I20 -> 125953813 | J32: =I32/H32*100 -> 55.972644
A33: Az Önkormányzat önként vállalt feladatok bevételei és kiadásai 2022. év
A35: 1. Működési bevételek | B35: =B6 -> 2022. évi eredeti előirányzat | C35: =C6 -> 2022. évi módosított előirányzat IV. | D35: =D6 -> 2022. évi teljesítés | E35: % | F35: 2. Működési kiadások | G35: =B35 -> 2022. évi eredeti előirányzat | H35: =C35 -> 2022. évi módosított előirányzat IV. | I35: =D35 -> 2022. évi teljesítés | J35: %
A36: Működési bevételek | F36: Működési kiadások
A37: 1. Működési támogatások államháztartáson belülről | F37: 1. Személyi juttatások
A38: 2. Közhatalmi bevételek | F38: 2. Munkaadót terhelő járulékok
A39: 3. Működési bevételek | B39: ='5. melléklet'!B54 -> 2480000 | C39: ='5. melléklet'!C54 -> 2480000 | D39: ='5. melléklet'!D54 -> 1940624 | E39: =D39/C39*100 -> 78.250968 | F39: 3. Dologi kiadások
A40: 4. Működési célú átvett pénzeszközök államháztartáson kivülről | F40: 4. Ellátottak pénzbeli juttatásai
F41: 5. Egyéb működési célú kiadások
F42: 5.1. Elvonások, befizetések
F43: 5.2. Egyéb működési célú támogatások áh-n belülre
F44: 5.4. Egyéb működési célú támogatások áh-n kívülre | G44: ='7. melléklet'!B12 -> 100000 | H44: ='7. melléklet'!C12 -> 150000 | I44: ='7. melléklet'!D12 -> 150000 | J44: =I44/H44*100 -> 100
F45: 5.5. Működési célú visszatérítendő támogatások, kölcsönök nyújtása áh-n kívülre
...

Sheet 11. melléklet
A3: Több éves kihatással járó döntésekből származó kötelezettségek célok szerint,
A4: évenkénti bontásban (Ft)
A6: Sorszám | B6: Kötelezettség jogcíme | C6: Kötelezettség- | D6: 2022.12.31.-ig | E6: 2022. évi költségvetést terhelő | J6: 2026. után | K6: Tárgyéven túli köt. Összesen (7+8+9+10) | L6: Összesen (4+5+6+11)
C7: vállalás | D7: kifizetés | F7: 2023. | G7: 2024. | H7: 2025. | I7: 2026.
C8: éve
A9: 1. | B9: 2. | C9: 3. | D9: 4. | E9: 5. | F9: 6. | G9: 7. | H9: 8. | I9: 9. | J9: 10. | K9: 11. | L9: 12.
A10: 1. | B10: Működési célú hitel-törlesztés
B11: (tőke + kamat )
A13: 2. | B13: Felhalmozási célú hitel-törlesztés
B14: (tőke + kamat) | D14: =D17+D20+D22+D24 -> 0 | E14: =E17+E20+E22+E24 -> 0 | F14: =F17+F20+F22+F24 -> 0 | G14: =G17+G20+G22+G24 -> 0 | H14: =H17+H20+H22+H24 -> 0 | J14: =J17+J20+J22+J24 -> 0 | K14: =K17+K20+K22+K24 -> 0 | L14: =L17+L20+L22+L24 -> 0
A17: 8. | B17: hitel összesen | D17: =SUM(D15:D15) -> 0 | E17: =SUM(E15:E15) -> 0 | F17: =SUM(F15:F16) -> 0 | G17: =SUM(G15:G16) -> 0 | H17: =SUM(H15:H16) -> 0 | I17: =SUM(I15:I16) -> 0 | J17: =SUM(J15:J16) -> 0 | K17: =SUM(K15:K16) -> 0 | L17: =SUM(L15:L16) -> 0
A20: 14 | B20: kamat összesen | D20: =SUM(D18:D19) -> 0 | E20: =SUM(E18:E19) -> 0 | F20: =SUM(F18:F19) -> 0 | G20: =SUM(G18:G19) -> 0 | H20: =SUM(H18:H19) -> 0 | I20: =SUM(I18:I19) -> 0 | J20: =SUM(J18:J19) -> 0 | K20: =SUM(K18:K19) -> 0 | L20: =SUM(L18:L19) -> 0
A22: 16 | B22: kezességvállalás: hitelek összesen | D22: =SUM(D21) -> 0 | E22: =SUM(E21) -> 0 | F22: =SUM(F21) -> 0 | G22: =SUM(G21) -> 0 | H22: =SUM(H21) -> 0 | J22: =SUM(J21) -> 0 | K22: =SUM(K21) -> 0 | L22: =SUM(L21) -> 0
A24: 18 | B24: kezességvállalás: hitelkamatok össz. | D24: =SUM(D23) -> 0 | E24: =SUM(E23) -> 0 | F24: =SUM(F23) -> 0 | G24: =SUM(G23) -> 0 | H24: =SUM(H23) -> 0 | J24: =SUM(J23) -> 0 | K24: =SUM(K23) -> 0 | L24: =SUM(L23) -> 0
A25: 1. | B25: 2. | C25: 3. | D25: 4. | E25: 5. | F25: 6. | G25: 7. | H25: 8. | I25: 9. | J25: 10. | K25: 11. | L25: 12.
A26: 19 | B26: Fejlesztés feladatonként | D26: =SUM(D27:D27) -> 0 | E26: =SUM(E27:E27) -> 0 | F26: =SUM(F27:F27) -> 0 | G26: =SUM(G27:G27) -> 0 | H26: =SUM(H27:H27) -> 0 | I26: =SUM(I27:I27) -> 0 | J26: =SUM(J27:J27) -> 0 | K26: =SUM(K27:K27) -> 0 | L26: =SUM(L27:L27) -> 0
A27: 20
K28: =G28+H28+J28+I28 -> 0 | L28: =D28+E28+F28+K28 -> 0
B29: Összesen: (1+4+9) | D29: =D26+D14 -> 0 | E29: =E26+E14 -> 0 | F29: =F26+F14 -> 0 | G29: =G26+G14 -> 0 | H29: =H26+H14 -> 0 | I29: =I26+I14 -> 0 | J29: =J26+J14 -> 0 | K29: =K26+K14 -> 0 | L29: =L26+L14 -> 0

Sheet 12. melléklet
A3: Az Önkormányzat adósságállományának alakulása
A4: lejárat, eszközök bel- és külföldi hitelezők szerinti bontásban (Ft-ban)
A7: Sorszám | B7: Hitel jellege | C7: Felvétel éve | D7: Lejárat éve | E7: Hitel állomány december 31-én
E8: 2023. | F8: 2024. | G8: 2025. | H8: 2026.
A10: 1. | B10: 2. | C10: 3. | D10: 4. | E10: 5. | F10: 6. | G10: 7. | H10: 8.
B11: Belföldi hitelállomány
A12: 1. | B12: Működési célú hitel állomány + kamat
A13: 2.
A14: 3. | B14: Hitel összesen
A15: 4.
A16: 5. | B16: Kamat összesen
A17: 6. | B17: Felhalmozási célú hitel állomány+kamat
A18: 7.
A19: 8. | B19: Hitel összesen (7-10)
A20: 9.
A21: 10. | B21: Kamat összesen (12-15)
A22: 11. | B22: Összesen: (1+6)
A23: 12. | B23: Külföldi hitelállomány
A24: 13. | B24: Működési célú hitel állomány + kamat
A25: 14.
A26: 15. | B26: Hitel összesen
A27: 16.
A28: 17. | B28: Kamat összesen
A29: 18. | B29: Felhalmozási célú hitel állomány+kamat
A30: 19.
A31: 20.
A32: 21.
A33: 22. | B33: Hitel összesen
A34: 23.
A35: 24.
A36: 25.
A37: 26. | B37: Kamat összesen
A38: 27. | B38: Összesen: (18+23)
A39: 28. | B39: Összesen: (17+32) | C39: 0 | D39: 0 | E39: =E22+E38 -> 0 | F39: =F22+F38 -> 0 | G39: =G22+G38 -> 0 | H39: =H22+H38 -> 0

Sheet 13. melléklet
A2: Az önkormányzat által adott közvetett támogatások (kedvezmények) 2022. év
A6: Sorszám | B6: Bevételi jogcím | C6: Intézmények, | D6: Kedvezmény nélkül | E6: Kedvezmények
C7: adónemek | D7: elérhető | E7: összege
D8: bevétel Ft | E8: Ft
A9: 1. | B9: 2. | C9: 3. | D9: 4. | E9: 5.
A10: 2. | B10: Ellátottak térítési díjának ill. kártérítésének méltányossági alapon történő elengedésének összege | D10: 0 | E10: 0
A13: 3. | B13: Lakosság részére nyújtott lakásépítéshez, lakásfelújításhoz nyújtott kölcsönök elengedésének összege | E13: 0
B14: Helyi adónál, gépjárműadónál biztosított kedvezmény, mentesség összege | D14: =SUM(D15:D21) -> 27119630 | E14: =SUM(E15:E21) -> 3194000 | F14: =SUM(F15:F21) -> 23925630
C15: Kommunális adó | D15: =F15+E15 -> 11984850 | E15: 1590000 | F15: ='5. melléklet'!D42 -> 10394850
C16: Telekadó | D16: =F16+E16 -> 274071 | E16: 24000 | F16: ='5. melléklet'!D41 -> 250071
C17: Iparűzési adó | D17: =F17+E17 -> 12501115 | E17: 1007000 | F17: ='5. melléklet'!D45 -> 11494115
C18: IFA személyek után | D18: =F18+E18 -> 2160820 | E18: 573000 | F18: ='5. melléklet'!D48 -> 1587820
C19: Talajterhelési díj | D19: =F19+E19 -> 0 | E19: 0 | F19: ='[2]2.sz.tábla'!B44 -> 0
C20: Gépjárműadó | D20: =F20+E20 -> 0 | E20: 0 | F20: ='5. melléklet'!D46 -> 0
C21: Egyéb bírság | D21: =F21 -> 198774 | E21: 0 | F21: ='5. melléklet'!D51 -> 198774
A22: 4. | B22: Helyiségek, eszközök hasznosításából származó bevételből nyújtott kedvezmény, mentesség összege | D22: =F22+E22 -> 0 | E22: 0
A23: 5. | B23: egyéb nyújtott kedvezmény vagy kölcsön elengedésének összege | D23: =F23+E23+G23 -> 0 | E23: 0
B24: Összesen : | D24: =D23+D22+D13+D14+D10 -> 27119630 | E24: =E23+E22+E13+E14+E10 -> 3194000 | F24: =SUM(F15:F21) -> 23925630

Sheet 14. melléklet
A4: Az önkormányzat adósságot keletkeztető ügyletből származó tárgyévi összes fizetési kötelezettsége az adósságot keletkeztető ügylet futamidejének végéig egyik évben sem haladja meg az önkormányzat adott évi saját bevételeinek 50%-át.
A7: Megnevezés | C7: 2022. év terv | D7: 2022. év tény | E7: 2023. év terv | F7: 2024. év terv | G7: 2025. év terv
A8: 1. Helyi adó bevétel | C8: 18300000 | D8: ='5. melléklet'!D41+'5. melléklet'!D42+'5. melléklet'!D45+'5. melléklet'!D48+'5. melléklet'!D46 -> 23726856 | E8: 19000000 | F8: 19000000 | G8: 19000000
A9: 2. Vagyon és vagyonértékű jog értékesítéséből származó bevétel
A10: 3. Osztalék, koncessziós díj és hozambevétel, | C10: 0 | E10: 0 | F10: 0 | G10: 0
A11: 4. tárgyi eszköz és immateriális jószág, részvény, részesedés, vállalalat értékesítésből vagy privatizációból származó bevétel
A12: 5. Bírság, pótlék- és díjbevétel | C12: 100000 | D12: ='5. melléklet'!D51 -> 198774 | E12: 100000 | F12: 100000 | G12: 100000
A13: 6. Kezességvállalással kapcsolatos megtérülés
A14: Összesen: | C14: =SUM(C8:C13) -> 18400000 | D14: =SUM(D8:D13) -> 23925630 | E14: =SUM(E8:E13) -> 19100000 | F14: =SUM(F8:F13) -> 19100000 | G14: =SUM(G8:G13) -> 19100000
A15: az önkormányzat adott évi saját bevételeinek 50%-a | C15: =C14*0.5 -> 9200000 | D15: =D14*0.5 -> 11962815 | E15: =E14*0.5 -> 9550000 | F15: =F14*0.5 -> 9550000 | G15: =G14*0.5 -> 9550000
A18: Adósságot keletkeztető ügyletekből és kezességvállalásokból fennálló kötelezettségek | B18: futamidő kezdete | C18: =C7 -> 2022. év terv | D18: =D7 -> 2022. év tény | E18: =E7 -> 2023. év terv | F18: =F7 -> 2024. év terv | G18: =G7 -> 2025. év terv
A23: Összesen: | C23: =SUM(C19:C22) -> 0 | D23: =SUM(D19:D22) -> 0 | E23: =SUM(E19:E22) -> 0 | F23: =SUM(F19:F22) -> 0 | G23: =SUM(G19:G22) -> 0

Sheet 15. melléklet
A1: Ingatlanvagyon bruttó érték 2022. év (Ft)
A5: Önkormányzati ingatlanvagyon | B5: Állomány 2021.12.31. | C5: Átvezetések | D5: Forgalom 2022. év | E5: Beemelés | F5: Állomány 2022.12.31.
A6: Üzleti | B6: ='16. melléklet'!C16 -> 45564672 | D6: =F6-B6 -> 2500000 | F6: ='16. melléklet'!E16 -> 48064672
A7: Korlátozottan forgalomképes | B7: ='16. melléklet'!C15 -> 334141242 | D7: =F7-B7 -> 0 | F7: ='16. melléklet'!E15 -> 334141242
A8: Forgalomképtelen | B8: ='16. melléklet'!C13 -> 206605240 | D8: =F8-B8 -> 0 | F8: ='16. melléklet'!E13 -> 206605240
A9: Ebből: nemzetgazdasági szempontból kiemelt jelentőségű befektetett eszközök | F9: =B9+D9 -> 0
A10: Összesen: | B10: =SUM(B6:B9) -> 586311154 | D10: =F10-B10 -> 2500000 | E10: 0 | F10: =SUM(F6:F9) -> 588811154

Sheet 16. melléklet
A1: Vagyonkimutatás 2022. év
B2: Ssz. | C2: Előző év | E2: Tárgyév | G2: %
C3: Bruttó | D3: Nettó | E3: Bruttó | F3: Nettó
A4: Eszközök | C4: állományi érték (Ft) | E4: állományi érték (Ft)
A5: 1. | B5: 2. | C5: 3. | D5: 4. | E5: 5. | F5: 6. | G5: 7.
A6: A.) Nemzeti vagyonba tartozó befektetett eszközök | B6: 01. | C6: =C7+C11+C36+C28 -> 658746716 | D6: =D7+D11+D36+D28 -> 380220645 | E6: =E7+E11+E36+E28 -> 679532744 | F6: =F7+F11+F36+F28 -> 384830002 | G6: =F6/D6*100 -> 101.21228
A7: I. Immateriális javak | B7: 01. | C7: =SUM(C8:C10) -> 12841865 | D7: =SUM(D8:D10) -> 5540000 | E7: =SUM(E8:E10) -> 12841865 | F7: =SUM(F8:F10) -> 6700000 | G7: =F7/D7*100 -> 120.93863
A8: 1.1. Forgalomképtelen immateriális javak | B8: 02.
A9: 1.2. Korlátozottan forgalomképes immateriális javak | B9: 03. | C9: 750000 | D9: 5540000 | E9: 750000 | F9: 6700000 | G9: =F9/D9*100 -> 120.93863
A10: 1.3. Üzleti immateriális javak | B10: 04. | C10: 12091865 | D10: 0 | E10: 12091865 | F10: 0
A11: II. Tárgyi eszközök | B11: 05. | C11: =C12+C17+C22+C21 -> 642354207 | D11: =D12+D17+D22+D21 -> 371930656 | E11: =E12+E17+E22+E21 -> 663140235 | F11: =F12+F17+F22+F21 -> 375558146 | G11: =F11/D11*100 -> 100.97531
A12: 1.Ingatlanok és kapcsolódó vagyoni értékű jogok | B12: 06. | C12: =C13+C15+C16 -> 586311154 | D12: =D13+D15+D16 -> 362802830 | E12: =E13+E15+E16 -> 588811154 | F12: =F13+F15+F16 -> 351339769 | G12: =F12/D12*100 -> 96.840416
A13: 1.1 Forgalomképtelen ingatlanok és kapcsolódó vagyoni értékű jogok | B13: 07. | C13: =35833480+7507956+106910804+56353000 -> 206605240 | D13: =C13-37067764-32121210-3570141 -> 133846125 | E13: =35833480+7507956+106910804+56353000 -> 206605240 | F13: =E13-40275099-33811800-3738606 -> 128779735 | G13: =F13/D13*100 -> 96.214765
A14: Ebből :nemzetgazdasági szempontból kiemelt jelentőségű ingatlanok | B14: 13.
A15: 1.2. Korlátozottan forgalomképes ingatlanok és kapcsolódó vagyoni értékű jogok | B15: 14. | C15: =3971000+403696+3588520+90237298+495000+7294100+228043258+27000+81370 -> 334141242 | D15: =C15-13470271-2437551-132252146 -> 185981274 | E15: =3971000+403696+3588520+90237298+495000+7294100+228043258+27000+81370 -> 334141242 | F15: =E15-15275017-2653084-139093443 -> 177119698 | G15: =F15/D15*100 -> 95.235232
A16: 1.3. Üzleti ingatlanok és kapcsolódó vagyoni értékű jogok | B16: 21. | C16: =39344042+425304+2072000+1754726+363000+1605600 -> 45564672 | D16: =C16-983641-1605600 -> 42975431 | E16: =39344042+425304+2072000+1754726+363000+1605600+2500000 -> 48064672 | F16: =E16-1018736-1605600 -> 45440336 | G16: =F16/D16*100 -> 105.73561
A17: 2. Gépek,berendezések, felszerelések, járművek | B17: 26. | C17: =C18+C19+C20 -> 51205653 | D17: =D18+D19+D20 -> 4290426 | E17: =E18+E19+E20 -> 66931681 | F17: =F18+F19+F20 -> 16820977 | G17: =F17/D17*100 -> 392.05843
A18: 2.1. Forgalomképtelen gépek,berendezések, felsz., járművek | B18: 27.
A19: 2.2. Korlátozottan forgalomképes gépek,berendezések, felszerelések, járművek | B19: 28. | C19: 1528022 | D19: =C19-107443 -> 1420579 | E19: =1528022+1420000 -> 2948022 | F19: =E19-221563-51898 -> 2674561 | G19: 0
A20: 2.3. Üzleti gépek,berendezések, felsz., járművek | B20: 29. | C20: =51205653-C19 -> 49677631 | D20: =C20-46915227+107443 -> 2869847 | E20: 63983659 | F20: =E20-49837243 -> 14146416 | G20: =F20/D20*100 -> 492.93276
A21: 3. Tenyészállatok | B21: 30. | C21: 0 | D21: 0 | E21: 0 | F21: 0
A22: 4. Beruházások, felújítások | B22: 31. | C22: 4837400 | D22: 4837400 | E22: 7397400 | F22: 7397400 | G22: =F22/D22*100 -> 152.92099
A23: 4.1. Forgalomképtelen eszköz létesítésére irányuló beruházások, felújítások | B23: 32.
A24: Ebből :nemzetgazdasági szempontból kiemelt jelentőségű beruházások, felújítások | B24: 33.
A25: 4.2. Korlátozottan forgalomképes eszköz létesítésére irányuló beruházások, felújítások | B25: 34.
A26: 4.3. Üzleti eszköz létesítésére irányuló beruházások, felújítások | B26: 35.
A27: 5. Tárgyi eszközök értékhelyesbítése | B27: 36. | C27: 0 | D27: 0 | E27: 0 | F27: 0 | G27: 0
A28: III. Befektetett pénzügyi eszközök | B28: 37. | C28: =C29+C34 -> 3550644 | D28: ='1. melléklet'!C12 -> 2749989 | E28: =E29+E34 -> 3550644 | F28: ='1. melléklet'!E12 -> 2571856 | G28: =F28/D28*100 -> 93.52241
A29: 1. Tartós részesedés | B29: 38. | C29: 3550644 | D29: =D28 -> 2749989 | E29: 3550644 | F29: =F28 -> 2571856 | G29: =F29/D29*100 -> 93.52241
A30: 1.1.Forgalomképtelen tartós részesedés | B30: 39.
A31: Ebből: nemzetgazdasági szempontból kiemelt jelentőségűtartós részesedés | B31: 40.
A32: 1.2. Korlátozottan forg.képes tartós részesedés | B32: 41.
A33: 1.3. Üzleti tartós részesedések | B33: 42.
A34: 2. Tartós hitelviszonyt mentestesítő értékpapírok korlátozottan forgalomképes | B34: 43.
A35: 3. Befektetett pénzügyi eszközök értékhelyesbítése | B35: 44.
A36: IV. Koncesszióba, vagyonkezelésbe adott eszközök | B36: 45. | D36: 0 | F36: 0
A37: 1. Koncesszióba, vagyonkezelésbe adott eszközök | B37: 46. | D37: 0 | F37: 0
A38: 1.1. Koncesszióba, vagyonkezelésbe adott forgalomképtelen eszközök | B38: 47.
